BEGIN:VCALENDAR
VERSION:2.0
PRODID:-//Church Admin Plugin//Website//EN
CALSCALE:GREGORIAN
METHOD:PUBLISH
BEGIN:VEVENT
UID:easter-sunday
TRANSP:OPAQUE
X-APPLE-TRAVEL-ADVISORY-BEHAVIOR:AUTOMATIC
DTSTART;VALUE=DATE:20260405T000000
DTEND;VALUE=DATE:20260405T235900
DTSTAMP:20260423T155547Z
CATEGORIES:Holy Days
LOCATION:
DESCRIPTION:Masses: 8am and 10am in English Noon in Spanish There will be
no 6:00pm mass
SUMMARY:Easter Sunday
END:VEVENT
END:VCALENDAR