BEGIN:VCALENDAR
VERSION:2.0
PRODID:-//Church Admin Plugin//Website//EN
CALSCALE:GREGORIAN
METHOD:PUBLISH
BEGIN:VEVENT
UID:holy-saturday-easter-vigil
TRANSP:OPAQUE
X-APPLE-TRAVEL-ADVISORY-BEHAVIOR:AUTOMATIC
DTSTART;VALUE=DATE:20260404T200000
DTEND;VALUE=DATE:20260404T220000
DTSTAMP:20260423T160248Z
CATEGORIES:Parish Activities
LOCATION:Church
DESCRIPTION:
SUMMARY:Holy Saturday Easter Vigil
END:VEVENT
END:VCALENDAR