BEGIN:VCALENDAR
VERSION:2.0
PRODID:-//Church Admin Plugin//Website//EN
CALSCALE:GREGORIAN
METHOD:PUBLISH
BEGIN:VEVENT
UID:good-friday-way-of-the-cross-walk-and-passion-of-the-lord
TRANSP:OPAQUE
X-APPLE-TRAVEL-ADVISORY-BEHAVIOR:AUTOMATIC
DTSTART;VALUE=DATE:20260403T150000
DTEND;VALUE=DATE:20260403T170000
DTSTAMP:20260423T155554Z
CATEGORIES:Parish Activities
LOCATION:
DESCRIPTION:Beginning at the Parish Hall parking lot and processing to
Brescia University the Passion of the Lord begins at 6:00 pm
SUMMARY:Good Friday/Way of the Cross Walk and Passion of the Lord
END:VEVENT
END:VCALENDAR