BEGIN:VCALENDAR
VERSION:2.0
PRODID:-//Church Admin Plugin//Website//EN
CALSCALE:GREGORIAN
METHOD:PUBLISH
BEGIN:VEVENT
UID:stations-of-the-cross
TRANSP:OPAQUE
X-APPLE-TRAVEL-ADVISORY-BEHAVIOR:AUTOMATIC
DTSTART;VALUE=DATE:20260415T120000
DTEND;VALUE=DATE:20260415T130000
DTSTAMP:20260423T155954Z
CATEGORIES:Prayer
LOCATION:Church
DESCRIPTION:
SUMMARY:Stations of the Cross
END:VEVENT
END:VCALENDAR