BEGIN:VCALENDAR
VERSION:2.0
PRODID:-//Church Admin Plugin//Website//EN
CALSCALE:GREGORIAN
METHOD:PUBLISH
BEGIN:VEVENT
UID:stations-of-the-cross
TRANSP:OPAQUE
X-APPLE-TRAVEL-ADVISORY-BEHAVIOR:AUTOMATIC
DTSTART;VALUE=DATE:20260403T183000
DTEND;VALUE=DATE:20260403T193000
DTSTAMP:20260423T160413Z
CATEGORIES:Prayer
LOCATION:Church
DESCRIPTION:Fridays after the 5:30 mass
SUMMARY:Stations of the Cross
END:VEVENT
END:VCALENDAR