BEGIN:VCALENDAR
VERSION:2.0
PRODID:-//Church Admin Plugin//Website//EN
CALSCALE:GREGORIAN
METHOD:PUBLISH
BEGIN:VEVENT
UID:confirmation-mass
TRANSP:OPAQUE
X-APPLE-TRAVEL-ADVISORY-BEHAVIOR:AUTOMATIC
DTSTART;VALUE=DATE:20260506T180000
DTEND;VALUE=DATE:20260506T190000
DTSTAMP:20260423T160033Z
CATEGORIES:Sacraments
LOCATION:
DESCRIPTION:
SUMMARY:Confirmation Mass
END:VEVENT
END:VCALENDAR