BEGIN:VCALENDAR
VERSION:2.0
PRODID:-//Church Admin Plugin//Website//EN
CALSCALE:GREGORIAN
METHOD:PUBLISH
BEGIN:VEVENT
UID:1st-communion-mass
TRANSP:OPAQUE
X-APPLE-TRAVEL-ADVISORY-BEHAVIOR:AUTOMATIC
DTSTART;VALUE=DATE:20260426T150000
DTEND;VALUE=DATE:20260426T160000
DTSTAMP:20260423T155831Z
CATEGORIES:Sacraments
LOCATION:Church
DESCRIPTION:
SUMMARY:1st Communion Mass
END:VEVENT
END:VCALENDAR