BEGIN:VCALENDAR
VERSION:2.0
PRODID:-//Church Admin Plugin//Website//EN
CALSCALE:GREGORIAN
METHOD:PUBLISH
BEGIN:VEVENT
UID:1st-communion-retreat
TRANSP:OPAQUE
X-APPLE-TRAVEL-ADVISORY-BEHAVIOR:AUTOMATIC
DTSTART;VALUE=DATE:20260425T090000
DTEND;VALUE=DATE:20260425T113000
DTSTAMP:20260423T155954Z
CATEGORIES:Retreats
LOCATION:Parish Hall
DESCRIPTION:
SUMMARY:1st Communion Retreat
END:VEVENT
END:VCALENDAR