BEGIN:VCALENDAR
VERSION:2.0
PRODID:-//Church Admin Plugin//Website//EN
CALSCALE:GREGORIAN
METHOD:PUBLISH
BEGIN:VEVENT
UID:vocation-tuesday
TRANSP:OPAQUE
X-APPLE-TRAVEL-ADVISORY-BEHAVIOR:AUTOMATIC
DTSTART;VALUE=DATE:20260505T183000
DTEND;VALUE=DATE:20260505T200830
DTSTAMP:20260423T155414Z
CATEGORIES:Parish Activities
LOCATION:Church
DESCRIPTION:All are invited to join the Office of Vocations every week for
Vocation Tuesday with 6:30 p.m. holy hour and confessions and
7:30 p.m. Mass.
SUMMARY:Vocation Tuesday
END:VEVENT
END:VCALENDAR