BEGIN:VCALENDAR
VERSION:2.0
PRODID:-//Church Admin Plugin//Website//EN
CALSCALE:GREGORIAN
METHOD:PUBLISH
BEGIN:VEVENT
UID:youth-bible-study
TRANSP:OPAQUE
X-APPLE-TRAVEL-ADVISORY-BEHAVIOR:AUTOMATIC
DTSTART;VALUE=DATE:20260406T180000
DTEND;VALUE=DATE:20260406T190000
DTSTAMP:20260423T160413Z
CATEGORIES:Youth
LOCATION:Activities Center
DESCRIPTION:Twice a month at the Activities Center. Bring your Bible if you
have one, if not we have some available.
SUMMARY:Youth Bible Study
END:VEVENT
END:VCALENDAR