BEGIN:VCALENDAR
VERSION:2.0
PRODID:-//Church Admin Plugin//Website//EN
CALSCALE:GREGORIAN
METHOD:PUBLISH
BEGIN:VEVENT
UID:anointing-of-the-sick
TRANSP:OPAQUE
X-APPLE-TRAVEL-ADVISORY-BEHAVIOR:AUTOMATIC
DTSTART;VALUE=DATE:20260522T173000
DTEND;VALUE=DATE:20260522T183000
DTSTAMP:20260423T155623Z
CATEGORIES:Sacraments
LOCATION:
DESCRIPTION:Anointing of the sick is held the last Friday of each month at
5:30pm Mass.
SUMMARY:Anointing of the Sick
END:VEVENT
END:VCALENDAR