BEGIN:VCALENDAR
VERSION:2.0
PRODID:-//Church Admin Plugin//Website//EN
CALSCALE:GREGORIAN
METHOD:PUBLISH
BEGIN:VEVENT
UID:sacrament-of-reconciliation
TRANSP:OPAQUE
X-APPLE-TRAVEL-ADVISORY-BEHAVIOR:AUTOMATIC
DTSTART;VALUE=DATE:20260507T120000
DTEND;VALUE=DATE:20260507T130000
DTSTAMP:20260423T160248Z
CATEGORIES:Sacraments
LOCATION:
DESCRIPTION:
SUMMARY:Sacrament of Reconciliation
END:VEVENT
END:VCALENDAR