BEGIN:VCALENDAR
VERSION:2.0
PRODID:-//Church Admin Plugin//Website//EN
CALSCALE:GREGORIAN
METHOD:PUBLISH
BEGIN:VEVENT
UID:adoration
TRANSP:OPAQUE
X-APPLE-TRAVEL-ADVISORY-BEHAVIOR:AUTOMATIC
DTSTART;VALUE=DATE:20260402T070000
DTEND;VALUE=DATE:20260402T171500
DTSTAMP:20260423T160340Z
CATEGORIES:Adoration
LOCATION:
DESCRIPTION:
SUMMARY:Adoration
END:VEVENT
END:VCALENDAR