BEGIN:VCALENDAR
VERSION:2.0
PRODID:-//Church Admin Plugin//Website//EN
CALSCALE:GREGORIAN
METHOD:PUBLISH
BEGIN:VEVENT
UID:fatih-formation-classes
TRANSP:OPAQUE
X-APPLE-TRAVEL-ADVISORY-BEHAVIOR:AUTOMATIC
DTSTART;VALUE=DATE:20260412T100000
DTEND;VALUE=DATE:20260412T113000
DTSTAMP:20260423T155727Z
CATEGORIES:Faith Formation
LOCATION:Fr. Tucker Center
DESCRIPTION:Faith Formation Classes for students in Kn-8th grade who attend
public school start Sunday, September 7th. Classes will be held
on Sundays from 10am11:30am in the Fr. Tucker Center. If you
have not already registered, please call the Church Office and
signup. (270) 683-5641
SUMMARY:Fatih Formation Classes
END:VEVENT
END:VCALENDAR